Workbook

Sheet Stmnt BD - Recorded KWH
A2: Statement BD
A3: San Diego Gas & Electric Company
A4: 2027 - TRBAA Rate Filing
A5: Allocation Energy and Supporting Data
C7: (A) | D7: (B) | E7: (C) = (A) - (B)
C8: Non-CAISO Energy | D8: Sale for Resale | E8: Non-CAISO Energy
A9: Line | C9: Sales @ Meter Level | D9: (City of | E9: Sales @ Meter Level | G9: Line
A10: No. | B10: Date | C10: Plus Sale for Resale | D10: Escondido) 1 | E10: Net of Sale for Resale | F10: Reference | G10: No.
A12: 1 | B12: 45931 | C12: ='WP 1.1 Recorded Sales'!C$39 -> 1638300694 | D12: ='WP 1.1 Recorded Sales'!C$38 -> 0 | E12: =C12-D12 -> 1638300694 | F12: Workpaper No. 1; Page 1.1; Lines 30; 29 | G12: 1
A13: =A12+1 -> 2 | B13: 45962 | C13: ='WP 1.1 Recorded Sales'!D$39 -> 1240088104 | D13: ='WP 1.1 Recorded Sales'!D$38 -> 0 | E13: =C13-D13 -> 1240088104 | F13: =$F$12 -> Workpaper No. 1; Page 1.1; Lines 30; 29 | G13: =G12+1 -> 2
A14: =A13+1 -> 3 | B14: 45992 | C14: ='WP 1.1 Recorded Sales'!E$39 -> 1477379730 | D14: ='WP 1.1 Recorded Sales'!E$38 -> 0 | E14: =C14-D14 -> 1477379730 | F14: =$F$12 -> Workpaper No. 1; Page 1.1; Lines 30; 29 | G14: =G13+1 -> 3
A15: =A14+1 -> 4 | B15: 46023 | C15: ='WP 1.1 Recorded Sales'!F$39 -> 1487837971 | D15: ='WP 1.1 Recorded Sales'!F$38 -> 0 | E15: =C15-D15 -> 1487837971 | F15: =$F$12 -> Workpaper No. 1; Page 1.1; Lines 30; 29 | G15: =G14+1 -> 4
A16: =A15+1 -> 5 | B16: 46054 | C16: ='WP 1.1 Recorded Sales'!G$39 -> 1135409538 | D16: ='WP 1.1 Recorded Sales'!G$38 -> 0 | E16: =C16-D16 -> 1135409538 | F16: =$F$12 -> Workpaper No. 1; Page 1.1; Lines 30; 29 | G16: =G15+1 -> 5
A17: =A16+1 -> 6 | B17: 46082 | C17: ='WP 1.1 Recorded Sales'!H$39 -> 1363529102 | D17: ='WP 1.1 Recorded Sales'!H$38 -> 0 | E17: =C17-D17 -> 1363529102 | F17: =$F$12 -> Workpaper No. 1; Page 1.1; Lines 30; 29 | G17: =G16+1 -> 6
A18: =A17+1 -> 7 | B18: 46113 | C18: ='WP 1.1 Recorded Sales'!I$39 -> 1371646695 | D18: ='WP 1.1 Recorded Sales'!I$38 -> 0 | E18: =C18-D18 -> 1371646695 | F18: =$F$12 -> Workpaper No. 1; Page 1.1; Lines 30; 29 | G18: =G17+1 -> 7
A19: =A18+1 -> 8 | B19: 46143 | C19: ='WP 1.1 Recorded Sales'!J$39 -> 1059815269 | D19: ='WP 1.1 Recorded Sales'!J$38 -> 0 | E19: =C19-D19 -> 1059815269 | F19: =$F$12 -> Workpaper No. 1; Page 1.1; Lines 30; 29 | G19: =G18+1 -> 8
A20: =A19+1 -> 9 | B20: 46174 | C20: ='WP 1.1 Recorded Sales'!K$39 -> 1458139063 | D20: ='WP 1.1 Recorded Sales'!K$38 -> 0 | E20: =C20-D20 -> 1458139063 | F20: =$F$12 -> Workpaper No. 1; Page 1.1; Lines 30; 29 | G20: =G19+1 -> 9
A21: =A20+1 -> 10 | B21: 46204 | C21: ='WP 1.1 Recorded Sales'!L$39 -> 1526848381 | D21: ='WP 1.1 Recorded Sales'!L$38 -> 0 | E21: =C21-D21 -> 1526848381 | F21: =$F$12 -> Workpaper No. 1; Page 1.1; Lines 30; 29 | G21: =G20+1 -> 10
A22: =A21+1 -> 11 | B22: 46235 | C22: ='WP 1.1 Recorded Sales'!M$39 -> 1719036176 | D22: ='WP 1.1 Recorded Sales'!M$38 -> 0 | E22: =C22-D22 -> 1719036176 | F22: =$F$12 -> Workpaper No. 1; Page 1.1; Lines 30; 29 | G22: =G21+1 -> 11
A23: =A22+1 -> 12 | B23: 46266 | C23: ='WP 1.1 Recorded Sales'!N$39 -> 1986346915 | D23: ='WP 1.1 Recorded Sales'!N$38 -> 0 | E23: =C23-D23 -> 1986346915 | F23: =$F$12 -> Workpaper No. 1; Page 1.1; Lines 30; 29 | G23: =G22+1 -> 12
A24: =A23+1 -> 13 | G24: =G23+1 -> 13
A25: =A24+1 -> 14 | G25: =G24+1 -> 14
A26: =A25+1 -> 15 | B26: Total | C26: =SUM(C12:C23) -> 17464377638 | D26: =SUM(D12:D23) -> 0 | E26: =SUM(E12:E23) -> 17464377638 | F26: Sum Lines 1 thru 12 | G26: =G25+1 -> 15
A29: 1 | B29: City of Escondido sales are excluded from the KWh total because they are classified as sales to CAISO wholesale customers.

Sheet Stmnt BD - Forecast KWH
A2: Statement BD
A3: San Diego Gas & Electric Company
A4: ='Stmnt BD - Recorded KWH'!A4 -> 2027 - TRBAA Rate Filing
A5: Allocation Energy and Supporting Data
C7: (A) | D7: (B) | E7: (C) = (A) - (B)
C8: Non-CAISO Energy | D8: Sale for Resale | E8: Non-CAISO Energy
A9: Line | C9: Sales @ Meter Level | D9: (City of | E9: Sales @ Meter Level | G9: Line
A10: No. | B10: Date | C10: Plus Sale for Resale | D10: Escondido) 1 | E10: Net of Sale for Resale | F10: Reference | G10: No.
A12: 1 | B12: 46388 | C12: ='WP 1.2 Forecast Sales'!C$41 -> 1.5245521e+09 | D12: ='WP 1.2 Forecast Sales'!C$40 -> 0 | E12: =C12-D12 -> 1.5245521e+09 | F12: Workpaper No. 1; Page 1.2; Lines 30; 29 | G12: 1
A13: =A12+1 -> 2 | B13: 46419 | C13: ='WP 1.2 Forecast Sales'!D$41 -> 1.39109e+09 | D13: ='WP 1.2 Forecast Sales'!D$40 -> 0 | E13: =C13-D13 -> 1.39109e+09 | F13: =$F$12 -> Workpaper No. 1; Page 1.2; Lines 30; 29 | G13: =G12+1 -> 2
A14: =A13+1 -> 3 | B14: 46447 | C14: ='WP 1.2 Forecast Sales'!E$41 -> 1.3274533e+09 | D14: ='WP 1.2 Forecast Sales'!E$40 -> 0 | E14: =C14-D14 -> 1.3274533e+09 | F14: =$F$12 -> Workpaper No. 1; Page 1.2; Lines 30; 29 | G14: =G13+1 -> 3
A15: =A14+1 -> 4 | B15: 46478 | C15: ='WP 1.2 Forecast Sales'!F$41 -> 1.2512307e+09 | D15: ='WP 1.2 Forecast Sales'!F$40 -> 0 | E15: =C15-D15 -> 1.2512307e+09 | F15: =$F$12 -> Workpaper No. 1; Page 1.2; Lines 30; 29 | G15: =G14+1 -> 4
A16: =A15+1 -> 5 | B16: 46508 | C16: ='WP 1.2 Forecast Sales'!G$41 -> 1.2498096e+09 | D16: ='WP 1.2 Forecast Sales'!G$40 -> 0 | E16: =C16-D16 -> 1.2498096e+09 | F16: =$F$12 -> Workpaper No. 1; Page 1.2; Lines 30; 29 | G16: =G15+1 -> 5
A17: =A16+1 -> 6 | B17: 46539 | C17: ='WP 1.2 Forecast Sales'!H$41 -> 1.3213066e+09 | D17: ='WP 1.2 Forecast Sales'!H$40 -> 0 | E17: =C17-D17 -> 1.3213066e+09 | F17: =$F$12 -> Workpaper No. 1; Page 1.2; Lines 30; 29 | G17: =G16+1 -> 6
A18: =A17+1 -> 7 | B18: 46569 | C18: ='WP 1.2 Forecast Sales'!I$41 -> 1.5028028e+09 | D18: ='WP 1.2 Forecast Sales'!I$40 -> 0 | E18: =C18-D18 -> 1.5028028e+09 | F18: =$F$12 -> Workpaper No. 1; Page 1.2; Lines 30; 29 | G18: =G17+1 -> 7
A19: =A18+1 -> 8 | B19: 46600 | C19: ='WP 1.2 Forecast Sales'!J$41 -> 1.674185e+09 | D19: ='WP 1.2 Forecast Sales'!J$40 -> 0 | E19: =C19-D19 -> 1.674185e+09 | F19: =$F$12 -> Workpaper No. 1; Page 1.2; Lines 30; 29 | G19: =G18+1 -> 8
A20: =A19+1 -> 9 | B20: 46631 | C20: ='WP 1.2 Forecast Sales'!K$41 -> 1.8543782e+09 | D20: ='WP 1.2 Forecast Sales'!K$40 -> 0 | E20: =C20-D20 -> 1.8543782e+09 | F20: =$F$12 -> Workpaper No. 1; Page 1.2; Lines 30; 29 | G20: =G19+1 -> 9
A21: =A20+1 -> 10 | B21: 46661 | C21: ='WP 1.2 Forecast Sales'!L$41 -> 1.5455349e+09 | D21: ='WP 1.2 Forecast Sales'!L$40 -> 0 | E21: =C21-D21 -> 1.5455349e+09 | F21: =$F$12 -> Workpaper No. 1; Page 1.2; Lines 30; 29 | G21: =G20+1 -> 10
A22: =A21+1 -> 11 | B22: 46692 | C22: ='WP 1.2 Forecast Sales'!M$41 -> 1.4155202e+09 | D22: ='WP 1.2 Forecast Sales'!M$40 -> 0 | E22: =C22-D22 -> 1.4155202e+09 | F22: =$F$12 -> Workpaper No. 1; Page 1.2; Lines 30; 29 | G22: =G21+1 -> 11
A23: =A22+1 -> 12 | B23: 46722 | C23: ='WP 1.2 Forecast Sales'!N$41 -> 1.4616199e+09 | D23: ='WP 1.2 Forecast Sales'!N$40 -> 0 | E23: =C23-D23 -> 1.4616199e+09 | F23: =$F$12 -> Workpaper No. 1; Page 1.2; Lines 30; 29 | G23: =G22+1 -> 12
A24: =A23+1 -> 13 | G24: =G23+1 -> 13
A25: =A24+1 -> 14 | G25: =G24+1 -> 14
A26: =A25+1 -> 15 | B26: Total | C26: =SUM(C12:C23) -> 1.7519483e+10 | D26: =SUM(D12:D23) -> 0 | E26: =SUM(E12:E23) -> 1.7519483e+10 | F26: Sum Lines 1 thru 12 | G26: =G25+1 -> 15
A29: 1 | B29: City of Escondido sales are excluded from the KWh total because they are classified as sales to CAISO wholesale customers not Non-CAISO retail.
B30: Forecast sales are used to develop Statements BG and BH, Revenues at Proposed Rates and Revenues at Present Rates.

Sheet Stmnt BD-Forecast MWH@Transm.
A2: Statement BD
A3: SAN DIEGO GAS & ELECTRIC COMPANY
A4: ='Stmnt BD - Forecast KWH'!A4 -> 2027 - TRBAA Rate Filing
A5: January 2027 - December 2027 1
A6: MWH SALES FORECAST @ Transmission Level
C8: (A) | D8: (B) | E8: (C) = (A) - (B) | F8: (D) = (C) x Line 19, Col. C
E9: Non-CAISO Energy | F9: Energy Sales
A10: Line | C10: Total | D10: Sale for Resale | E10: Sales | F10: @ Transmission | H10: Line
A11: No. | B11: Months | C11: MWh Sales | D11: (City of Escondido) | E11: @ Meter Level | F11: Level | G11: Reference | H11: No.
A13: 1 | B13: ='Stmnt BD - Forecast KWH'!B12 -> 46388 | C13: ='WP 1.2 Forecast Sales'!C14 -> 1524552.1 | D13: ='WP 1.2 Forecast Sales'!C13 -> 0 | E13: =C13-D13 -> 1524552.1 | F13: =E13*$E$31 -> 1591784.9 | G13: Cols. A to C, WP No. 1; Page 1.2; Lines 10, 9 & 12 | H13: 1
A14: =A13+1 -> 2 | B14: ='Stmnt BD - Forecast KWH'!B13 -> 46419 | C14: ='WP 1.2 Forecast Sales'!D14 -> 1391090 | D14: ='WP 1.2 Forecast Sales'!D13 -> 0 | E14: =C14-D14 -> 1391090 | F14: =E14*$E$31 -> 1452437 | G14: =$G$13 -> Cols. A to C, WP No. 1; Page 1.2; Lines 10, 9 & 12 | H14: =H13+1 -> 2
A15: =A14+1 -> 3 | B15: ='Stmnt BD - Forecast KWH'!B14 -> 46447 | C15: ='WP 1.2 Forecast Sales'!E14 -> 1327453.3 | D15: ='WP 1.2 Forecast Sales'!E13 -> 0 | E15: =C15-D15 -> 1327453.3 | F15: =E15*$E$31 -> 1385994 | G15: =$G$13 -> Cols. A to C, WP No. 1; Page 1.2; Lines 10, 9 & 12 | H15: =H14+1 -> 3
A16: =A15+1 -> 4 | B16: ='Stmnt BD - Forecast KWH'!B15 -> 46478 | C16: ='WP 1.2 Forecast Sales'!F14 -> 1251230.7 | D16: ='WP 1.2 Forecast Sales'!F13 -> 0 | E16: =C16-D16 -> 1251230.7 | F16: =E16*$E$31 -> 1306410 | G16: =$G$13 -> Cols. A to C, WP No. 1; Page 1.2; Lines 10, 9 & 12 | H16: =H15+1 -> 4
A17: =A16+1 -> 5 | B17: ='Stmnt BD - Forecast KWH'!B16 -> 46508 | C17: ='WP 1.2 Forecast Sales'!G14 -> 1249809.6 | D17: ='WP 1.2 Forecast Sales'!G13 -> 0 | E17: =C17-D17 -> 1249809.6 | F17: =E17*$E$31 -> 1304926.2 | G17: =$G$13 -> Cols. A to C, WP No. 1; Page 1.2; Lines 10, 9 & 12 | H17: =H16+1 -> 5
A18: =A17+1 -> 6 | B18: ='Stmnt BD - Forecast KWH'!B17 -> 46539 | C18: ='WP 1.2 Forecast Sales'!H14 -> 1321306.6 | D18: ='WP 1.2 Forecast Sales'!H13 -> 0 | E18: =C18-D18 -> 1321306.6 | F18: =E18*$E$31 -> 1379576.2 | G18: =$G$13 -> Cols. A to C, WP No. 1; Page 1.2; Lines 10, 9 & 12 | H18: =H17+1 -> 6
A19: =A18+1 -> 7 | B19: ='Stmnt BD - Forecast KWH'!B18 -> 46569 | C19: ='WP 1.2 Forecast Sales'!I14 -> 1502802.8 | D19: ='WP 1.2 Forecast Sales'!I13 -> 0 | E19: =C19-D19 -> 1502802.8 | F19: =E19*$E$31 -> 1569076.4 | G19: =$G$13 -> Cols. A to C, WP No. 1; Page 1.2; Lines 10, 9 & 12 | H19: =H18+1 -> 7
A20: =A19+1 -> 8 | B20: ='Stmnt BD - Forecast KWH'!B19 -> 46600 | C20: ='WP 1.2 Forecast Sales'!J14 -> 1674185 | D20: ='WP 1.2 Forecast Sales'!J13 -> 0 | E20: =C20-D20 -> 1674185 | F20: =E20*$E$31 -> 1748016.5 | G20: =$G$13 -> Cols. A to C, WP No. 1; Page 1.2; Lines 10, 9 & 12 | H20: =H19+1 -> 8
A21: =A20+1 -> 9 | B21: ='Stmnt BD - Forecast KWH'!B20 -> 46631 | C21: ='WP 1.2 Forecast Sales'!K14 -> 1854378.2 | D21: ='WP 1.2 Forecast Sales'!K13 -> 0 | E21: =C21-D21 -> 1854378.2 | F21: =E21*$E$31 -> 1936156.3 | G21: =$G$13 -> Cols. A to C, WP No. 1; Page 1.2; Lines 10, 9 & 12 | H21: =H20+1 -> 9
A22: =A21+1 -> 10 | B22: ='Stmnt BD - Forecast KWH'!B21 -> 46661 | C22: ='WP 1.2 Forecast Sales'!L14 -> 1545534.9 | D22: ='WP 1.2 Forecast Sales'!L13 -> 0 | E22: =C22-D22 -> 1545534.9 | F22: =E22*$E$31 -> 1613693 | G22: =$G$13 -> Cols. A to C, WP No. 1; Page 1.2; Lines 10, 9 & 12 | H22: =H21+1 -> 10
A23: =A22+1 -> 11 | B23: ='Stmnt BD - Forecast KWH'!B22 -> 46692 | C23: ='WP 1.2 Forecast Sales'!M14 -> 1415520.2 | D23: ='WP 1.2 Forecast Sales'!M13 -> 0 | E23: =C23-D23 -> 1415520.2 | F23: =E23*$E$31 -> 1477944.6 | G23: =$G$13 -> Cols. A to C, WP No. 1; Page 1.2; Lines 10, 9 & 12 | H23: =H22+1 -> 11
A24: =A23+1 -> 12 | B24: ='Stmnt BD - Forecast KWH'!B23 -> 46722 | C24: ='WP 1.2 Forecast Sales'!N14 -> 1461619.9 | D24: ='WP 1.2 Forecast Sales'!N13 -> 0 | E24: =C24-D24 -> 1461619.9 | F24: =E24*$E$31 -> 1526077.3 | G24: =$G$13 -> Cols. A to C, WP No. 1; Page 1.2; Lines 10, 9 & 12 | H24: =H23+1 -> 12
A25: =A24+1 -> 13 | H25: =H24+1 -> 13
A26: =A25+1 -> 14 | B26: Total | C26: =SUM(C13:C25) -> 17519483 | D26: =SUM(D13:D25) -> 0 | E26: =SUM(E13:E24) -> 17519483 | F26: =SUM(F13:F24) -> 18292093 | G26: Sum Lines 1 thru 12 | H26: =H25+1 -> 14
A27: =A26+1 -> 15 | H27: =H26+1 -> 15
A28: =A27+1 -> 16 | B28: Non-CAISO Sales Forecast @ Meter Level | E28: =E26 -> 17519483 | G28: Col. C; Line 14 | H28: =H27+1 -> 16
A29: =A28+1 -> 17 | H29: =H28+1 -> 17
A30: =A29+1 -> 18 | H30: =H29+1 -> 18
A31: =A30+1 -> 19 | B31: Transmission Loss Factor 2 | C31: 34217606 | D31: 35725733 | E31: =ROUND(D31/C31,4) -> 1.0441 | G31: Column B / Column A | H31: =H30+1 -> 19
A32: =A31+1 -> 20 | H32: =H31+1 -> 20
A33: =A32+1 -> 21 | H33: =H32+1 -> 21
A34: =A33+1 -> 22 | B34: Non-CAISO Sales Forecast @ Transmission Level | F34: =F26 -> 18292093 | G34: Col. D; Line 14 | H34: =H33+1 -> 22
A35: =A34+1 -> 23 | H35: =H34+1 -> 23
A36: =A35+1 -> 24 | B36: Lake Hodges Pumped Storage Facilities 3 | F36: 0 | G36: Statement BD WP; Page 4 of 5 | H36: =H35+1 -> 24
A37: =A36+1 -> 25 | H37: =H36+1 -> 25
A38: =A37+1 -> 26 | B38: Pumped Storage True Up Adjustment 4 | F38: -338.98531 | G38: Statement BD WP; Page 5 of 5 | H38: =H37+1 -> 26
A39: =A38+1 -> 27 | H39: =H38+1 -> 27
A40: =A39+1 -> 28 | B40: Total Gross Load Forecast | F40: =F34+F36+F38 -> 18291754 | G40: Sum Lines 22 thru 26 | H40: =H39+1 -> 28
A43: 1 | B43: This information is used for CAISO TAC purposes as shown in Statement BL -Wholesale. The sales forecast excludes Sale for Resale.
A44: 2 | B44: Per Cost Statement BB; Page 1; Line 24 of SDG&E's TO6-Cycle 3 Annual Informational Filing.
B45: The 1.0414 factor is used to convert the Non-CAISO retail sales forecast at meter level up to the transmission level.
...

Sheet Stmt BD-Forecast Pump Storage
A2: Statement BD
A3: SAN DIEGO GAS AND ELECTRIC COMPANY
A4: Allocation Energy and Supporting Data
A5: Forecast Period January 2027 - December 2027
A6: MWH SALES FORECAST @ Transmission Level
A8: 2027 (MWh) | B8: Jan | C8: Feb | D8: Mar | E8: Apr | F8: May | G8: June | H8: July | I8: Aug | J8: Sept | K8: Oct | L8: Nov | M8: Dec | N8: Total
A9: Olivenhain-Lake Hodges Pumping Load | B9: 0 | C9: 0 | D9: 0 | E9: 0 | F9: 0 | G9: 0 | H9: 0 | I9: 0 | J9: 0 | K9: 0 | L9: 0 | M9: 0 | N9: =SUM(B9:M9) -> 0
H11: Primary Level Distribution Loss Factor | N11: 1.0108921
H13: Total Lake Hodges Pumping Load | N13: =N9*N11 -> 0

Sheet Stmt BD-Pump Load True Up Adj
B2: Statement BD
B3: SAN DIEGO GAS AND ELECTRIC COMPANY
B4: Allocation Energy and Supporting Data
B5: Lake Hodges Pumping Load Adjustment Mechanism
B6: For the 12-Month Base & True Up Period Ending December 31, 2025
A8: Line No. | B8: Description | C8: Amount | D8: Reference | E8: Line No.
A10: 1 | B10: Pumped Storage Facility - Actual Load | C10: 0 | D10: SDG&E Records | E10: 1
A12: =A10+1 -> 2 | B12: Pumped Storage Facility - Forecast Load | C12: 335.33281 | D12: SDG&E Records | E12: =E10+1 -> 2
A14: =A12+1 -> 3 | B14: Difference | C14: =C10-C12 -> -335.33281 | D14: Line 1 Minus Line 2 | E14: =E12+1 -> 3
A16: =A14+1 -> 4 | B16: Primary Level Distribution Loss Factor | C16: 1.0108921 | D16: SDG&E Records | E16: =E14+1 -> 4
A18: =A16+1 -> 5 | B18: Pumped Storage - True Up Adjustment 1 | C18: =C14*C16 -> -338.98531 | D18: Line 3 x Line 4 | E18: =E16+1 -> 5
A20: 1 | B20: The pumped storage True-Up Adjustment reconciles the difference between the prior year's forecast and actual load data.

Sheet Stmt BG - Page 1
A2: Statement BG
A3: SAN DIEGO GAS & ELECTRIC COMPANY
A4: Transmission Revenue Balancing Account Adjustment (TRBAA) Revenues Data to Reflect Changed Rates
A5: Comparison of Revenues
A6: Rate Effective Period - Twelve Months Ending December 31, 2027
C8: (A) | D8: (B) | E8: (C) = (A) - (B) | F8: (D) = (C) / (B)
C9: (Statement BG) | D9: (Statement BH)
C10: 2027 | D10: =C10 -> 2027
A11: Line | C11: TRBAA Revenues | D11: TRBAA Revenues | F11: (%) | I11: Line
A12: No. | B12: Customer Classes | C12: @ Changed Rates | D12: @ Present Rates 1 | E12: ($) Change | F12: Change | G12: Reference | H12: Reference | I12: No.
A14: 1 | B14: Residential Customers | C14: ='Stmt BG - Page 2'!I28 -> -18530989 | D14: ='Stmt BH - Page 1'!I28 -> -17333602 | E14: =C14-D14 -> -1197387 | F14: =(C14-D14)/D14 -> 0.069078947 | H14: Statement BG; Page 2 of 4; Line 14 | I14: 1
A15: =A14+1 -> 2 | H15: Statement BH; Page 1 of 3; Line 14 | I15: =I14+1 -> 2
A16: =A15+1 -> 3 | B16: Small Commercial Customers | C16: ='Stmt BG - Page 2'!I30 -> -5577094.1 | D16: ='Stmt BH - Page 1'!I30 -> -5216728 | E16: =C16-D16 -> -360366.08 | F16: =(C16-D16)/D16 -> 0.069078947 | H16: Statement BG; Page 2 of 4; Line 16 | I16: =I15+1 -> 3
A17: =A16+1 -> 4 | H17: Statement BH; Page 1 of 3; Line 16 | I17: =I16+1 -> 4
A18: =A17+1 -> 5 | B18: Medium and Large Commercial/Industrial | C18: ='Stmt BG - Page 2'!I32 -> -31345687 | D18: ='Stmt BH - Page 1'!I32 -> -29320274 | E18: =C18-D18 -> -2025413.6 | F18: =(C18-D18)/D18 -> 0.069078947 | H18: Statement BG; Page 2 of 4; Line 18 | I18: =I17+1 -> 5
A19: =A18+1 -> 6 | H19: Statement BH; Page 1 of 3; Line 18 | I19: =I18+1 -> 6
A20: =A19+1 -> 7 | B20: Agriculture (PA and TOU-PA) | C20: ='Stmt BG - Page 2'!I34 -> -684335.14 | D20: ='Stmt BH - Page 1'!I34 -> -640116.56 | E20: =C20-D20 -> -44218.578 | F20: =(C20-D20)/D20 -> 0.069078947 | H20: Statement BG; Page 2 of 4; Line 20 | I20: =I19+1 -> 7
A21: =A20+1 -> 8 | H21: Statement BH; Page 1 of 3; Line 20 | I21: =I20+1 -> 8
A22: =A21+1 -> 9 | B22: Agriculture (PA-T-1) | C22: ='Stmt BG - Page 2'!I36 -> -534594.31 | D22: ='Stmt BH - Page 1'!I36 -> -500051.29 | E22: =C22-D22 -> -34543.017 | F22: =(C22-D22)/D22 -> 0.069078947 | H22: Statement BG; Page 2 of 4; Line 22 | I22: =I21+1 -> 9
A23: =A22+1 -> 10 | H23: Statement BH; Page 1 of 3; Line 22 | I23: =I22+1 -> 10
A24: =A23+1 -> 11 | B24: Street Lighting Customers | C24: ='Stmt BG - Page 2'!I38 -> -252472.61 | D24: ='Stmt BH - Page 1'!I38 -> -236158.99 | E24: =C24-D24 -> -16313.615 | F24: =(C24-D24)/D24 -> 0.069078947 | H24: Statement BG; Page 2 of 4; Line 24 | I24: =I23+1 -> 11
A25: =A24+1 -> 12 | H25: Statement BH; Page 1 of 3; Line 24 | I25: =I24+1 -> 12
A26: =A25+1 -> 13 | I26: =I25+1 -> 13
A27: =A26+1 -> 14 | B27: Grand Total | C27: =SUM(C14:C24) -> -56925172 | D27: =SUM(D14:D24) -> -53246930 | E27: =SUM(E14:E24) -> -3678241.9 | F27: =(C27-D27)/D27 -> 0.069078947 | H27: Sum Lines 1 through 11 | I27: =I26+1 -> 14
A30: 1 | B30: Present Rates are defined as rates effective pursuant to ER26-336.

Sheet Stmt BG - Page 2
A2: Statement BG
A3: SAN DIEGO GAS & ELECTRIC COMPANY
A4: ='Stmt BG - Page 1'!A4 -> Transmission Revenue Balancing Account Adjustment (TRBAA) Revenues Data to Reflect Changed Rates
A5: ='Stmt BG - Page 1'!A6 -> Rate Effective Period - Twelve Months Ending December 31, 2027
A7: Line | C7: (A) | D7: (B) | E7: (C) | F7: (D) | G7: (E) | H7: (F) | I7: (G) | J7: Line
A8: No. | B8: Customer Classes | C8: 46388 | D8: 46419 | E8: 46447 | F8: 46478 | G8: 46508 | H8: 46539 | J8: No.
A10: 1 | B10: Residential 1 | C10: ='Stmt BG - Page 3'!C33 -> -1891341 | D10: ='Stmt BG - Page 3'!D33 -> -1601265.2 | E10: ='Stmt BG - Page 3'!E33 -> -1392796.8 | F10: ='Stmt BG - Page 3'!F33 -> -1141228 | G10: ='Stmt BG - Page 3'!G33 -> -1071829.1 | H10: ='Stmt BG - Page 3'!H33 -> -1164617.5 | J10: 1
A11: =A10+1 -> 2 | J11: =J10+1 -> 2
A12: =A11+1 -> 3 | B12: Small Commercial 2 | C12: ='Stmt BG - Page 3'!C35 -> -468348.93 | D12: ='Stmt BG - Page 3'!D35 -> -449386.74 | E12: ='Stmt BG - Page 3'!E35 -> -437364.18 | F12: ='Stmt BG - Page 3'!F35 -> -428238 | G12: ='Stmt BG - Page 3'!G35 -> -427900.58 | H12: ='Stmt BG - Page 3'!H35 -> -446001.42 | J12: =J11+1 -> 3
A13: =A12+1 -> 4 | J13: =J12+1 -> 4
A14: =A13+1 -> 5 | B14: Medium and Large Commercial/Industrial 3 | C14: ='Stmt BG - Page 3'!C37 -> -2488543.7 | D14: ='Stmt BG - Page 3'!D37 -> -2371347 | E14: ='Stmt BG - Page 3'!E37 -> -2389842 | F14: ='Stmt BG - Page 3'!F37 -> -2395079.2 | G14: ='Stmt BG - Page 3'!G37 -> -2438102.7 | H14: ='Stmt BG - Page 3'!H37 -> -2553069.3 | J14: =J13+1 -> 5
A15: =A14+1 -> 6 | J15: =J14+1 -> 6
A16: =A15+1 -> 7 | B16: Agriculture (PA and TOU-PA) 4 | C16: ='Stmt BG - Page 3'!C39 -> -42548.526 | D16: ='Stmt BG - Page 3'!D39 -> -37332.4 | E16: ='Stmt BG - Page 3'!E39 -> -34881.259 | F16: ='Stmt BG - Page 3'!F39 -> -40098.731 | G16: ='Stmt BG - Page 3'!G39 -> -57003.042 | H16: ='Stmt BG - Page 3'!H39 -> -63220.291 | J16: =J15+1 -> 7
A17: =A16+1 -> 8 | J17: =J16+1 -> 8
A18: =A17+1 -> 9 | B18: Agriculture (PA-T-1) 5 | C18: ='Stmt BG - Page 3'!C41 -> -41591.744 | D18: ='Stmt BG - Page 3'!D41 -> -39637.252 | E18: ='Stmt BG - Page 3'!E41 -> -37113.837 | F18: ='Stmt BG - Page 3'!F41 -> -38471.49 | G18: ='Stmt BG - Page 3'!G41 -> -45323.625 | H18: ='Stmt BG - Page 3'!H41 -> -46820.671 | J18: =J17+1 -> 9
A19: =A18+1 -> 10 | J19: =J18+1 -> 10
A20: =A19+1 -> 11 | B20: Street Lighting 6 | C20: ='Stmt BG - Page 3'!C43 -> -21940.031 | D20: ='Stmt BG - Page 3'!D43 -> -21492.05 | E20: ='Stmt BG - Page 3'!E43 -> -20965.103 | F20: ='Stmt BG - Page 3'!F43 -> -20391.552 | G20: ='Stmt BG - Page 3'!G43 -> -20385.873 | H20: ='Stmt BG - Page 3'!H43 -> -20517.313 | J20: =J19+1 -> 11
A21: =A20+1 -> 12 | J21: =J20+1 -> 12
A22: =A21+1 -> 13 | B22: TOTAL | C22: =SUM(C10:C20) -> -4954313.9 | D22: =SUM(D10:D20) -> -4520460.6 | E22: =SUM(E10:E20) -> -4312963.1 | F22: =SUM(F10:F20) -> -4063507 | G22: =SUM(G10:G20) -> -4060544.9 | H22: =SUM(H10:H20) -> -4294246.5 | J22: =J21+1 -> 13
A25: Line | C25: =C7 -> (A) | D25: =D7 -> (B) | E25: =E7 -> (C) | F25: =F7 -> (D) | G25: =G7 -> (E) | H25: =H7 -> (F) | I25: =I7 -> (G) | J25: Line
A26: No. | B26: Customer Classes | C26: 46569 | D26: 46600 | E26: 46631 | F26: 46661 | G26: 46692 | H26: 46722 | J26: No.
A28: =A22+1 -> 14 | B28: Residential 1 | C28: ='Stmt BG - Page 4'!C33 -> -1454331 | D28: ='Stmt BG - Page 4'!D33 -> -1880419.5 | E28: ='Stmt BG - Page 4'!E33 -> -2266120.9 | F28: ='Stmt BG - Page 4'!F33 -> -1595508.7 | G28: ='Stmt BG - Page 4'!G33 -> -1422679.3 | H28: ='Stmt BG - Page 4'!H33 -> -1648851.6 | I28: =SUM(C10:H10,C28:H28) -> -18530989 | J28: =J22+1 -> 14
A29: =A28+1 -> 15 | J29: =J28+1 -> 15
A30: =A29+1 -> 16 | B30: Small Commercial 2 | C30: ='Stmt BG - Page 4'!C35 -> -493491.2 | D30: ='Stmt BG - Page 4'!D35 -> -514570.39 | E30: ='Stmt BG - Page 4'!E35 -> -543444.38 | F30: ='Stmt BG - Page 4'!F35 -> -478810.48 | G30: ='Stmt BG - Page 4'!G35 -> -444962.55 | H30: ='Stmt BG - Page 4'!H35 -> -444575.23 | I30: =SUM(C12:H12,C30:H30) -> -5577094.1 | J30: =J29+1 -> 16
A31: =A30+1 -> 17 | J31: =J30+1 -> 17
A32: =A31+1 -> 18 | B32: Medium and Large Commercial/Industrial 3 | C32: ='Stmt BG - Page 4'!C37 -> -2793109.1 | D32: ='Stmt BG - Page 4'!D37 -> -2896896.8 | E32: ='Stmt BG - Page 4'!E37 -> -3068169.9 | F32: ='Stmt BG - Page 4'!F37 -> -2807096.7 | G32: ='Stmt BG - Page 4'!G37 -> -2604799 | H32: ='Stmt BG - Page 4'!H37 -> -2539631.8 | I32: =SUM(C14:H14,C32:H32) -> -31345687 | J32: =J31+1 -> 18
A33: =A32+1 -> 19 | J33: =J32+1 -> 19
A34: =A33+1 -> 20 | B34: Agriculture (PA and TOU-PA) 4 | C34: ='Stmt BG - Page 4'!C39 -> -71824.558 | D34: ='Stmt BG - Page 4'!D39 -> -77430.608 | E34: ='Stmt BG - Page 4'!E39 -> -77390.342 | F34: ='Stmt BG - Page 4'!F39 -> -69438.466 | G34: ='Stmt BG - Page 4'!G39 -> -59463.344 | H34: ='Stmt BG - Page 4'!H39 -> -53703.573 | I34: =SUM(C16:H16,C34:H34) -> -684335.14 | J34: =J33+1 -> 20
A35: =A34+1 -> 21 | J35: =J34+1 -> 21
A36: =A35+1 -> 22 | B36: Agriculture (PA-T-1) 5 | C36: ='Stmt BG - Page 4'!C41 -> -51105.273 | D36: ='Stmt BG - Page 4'!D41 -> -50780.389 | E36: ='Stmt BG - Page 4'!E41 -> -50702.502 | F36: ='Stmt BG - Page 4'!F41 -> -48363.872 | G36: ='Stmt BG - Page 4'!G41 -> -44494.037 | H36: ='Stmt BG - Page 4'!H41 -> -40189.614 | I36: =SUM(C18:H18,C36:H36) -> -534594.31 | J36: =J35+1 -> 22
A37: =A36+1 -> 23 | J37: =J36+1 -> 23
A38: =A37+1 -> 24 | B38: Street Lighting 6 | C38: ='Stmt BG - Page 4'!C43 -> -20248.151 | D38: ='Stmt BG - Page 4'!D43 -> -21003.501 | E38: ='Stmt BG - Page 4'!E43 -> -20161.592 | F38: ='Stmt BG - Page 4'!F43 -> -21072.37 | G38: ='Stmt BG - Page 4'!G43 -> -22118.641 | H38: ='Stmt BG - Page 4'!H43 -> -22176.433 | I38: =SUM(C20:H20,C38:H38) -> -252472.61 | J38: =J37+1 -> 24
A39: =A38+1 -> 25 | J39: =J38+1 -> 25
A40: =A39+1 -> 26 | B40: TOTAL | C40: =SUM(C28:C38) -> -4884109.2 | D40: =SUM(D28:D38) -> -5441101.1 | E40: =SUM(E28:E38) -> -6025989.6 | F40: =SUM(F28:F38) -> -5020290.7 | G40: =SUM(G28:G38) -> -4598516.9 | H40: =SUM(H28:H38) -> -4749128.3 | I40: =SUM(I28:I38) -> -56925172 | J40: =J39+1 -> 26
A43: 1 | B43: See Stmt BG pages 3 of 4 and 4 of 4, Line 23. | F43: 4 | G43: See Stmt BG pages 3 of 4 and 4 of 4, Line 29.
A44: 2 | B44: See Stmt BG pages 3 of 4 and 4 of 4, Line 25. | F44: 5 | G44: See Stmt BG pages 3 of 4 and 4 of 4, Line 31.
A45: 3 | B45: See Stmt BG pages 3 of 4 and 4 of 4, Line 27. | F45: 6 | G45: See Stmt BG pages 3 of 4 and 4 of 4, Line 33.

Sheet Stmt BG - Page 3
A2: Statement BG
A3: SAN DIEGO GAS AND ELECTRIC COMPANY
A4: ='Stmt BG - Page 1'!A4 -> Transmission Revenue Balancing Account Adjustment (TRBAA) Revenues Data to Reflect Changed Rates
A5: ='Stmt BG - Page 1'!A6 -> Rate Effective Period - Twelve Months Ending December 31, 2027
C7: (A) | D7: (B) | E7: (C) | F7: (D) | G7: (E) | H7: (F) | I7: (G)
A8: Line | C8: ='Stmt BG - Page 2'!C8 -> 46388 | D8: ='Stmt BG - Page 2'!D8 -> 46419 | E8: ='Stmt BG - Page 2'!E8 -> 46447 | F8: ='Stmt BG - Page 2'!F8 -> 46478 | G8: ='Stmt BG - Page 2'!G8 -> 46508 | H8: ='Stmt BG - Page 2'!H8 -> 46539 | J8: Line
A9: No. | B9: Customer Classes | C9: Energy (kWh) | D9: Energy (kWh) | E9: Energy (kWh) | F9: Energy (kWh) | G9: Energy (kWh) | H9: Energy (kWh) | I9: Reference | J9: No.
A11: 1 | B11: Residential Customers | C11: ='WP 1.2 Forecast Sales'!C6*1000 -> 5.8195106e+08 | D11: ='WP 1.2 Forecast Sales'!D6*1000 -> 4.9269698e+08 | E11: ='WP 1.2 Forecast Sales'!E6*1000 -> 4.2855285e+08 | F11: ='WP 1.2 Forecast Sales'!F6*1000 -> 3.5114708e+08 | G11: ='WP 1.2 Forecast Sales'!G6*1000 -> 3.2979355e+08 | H11: ='WP 1.2 Forecast Sales'!H6*1000 -> 3.5834385e+08 | I11: Workpaper No. 1; Page 1.2; Line 23 | J11: 1
A12: =A11+1 -> 2 | J12: =J11+1 -> 2
A13: =A12+1 -> 3 | B13: Small Commercial | C13: ='WP 1.2 Forecast Sales'!C7*1000 -> 1.4410736e+08 | D13: ='WP 1.2 Forecast Sales'!D7*1000 -> 1.3827284e+08 | E13: ='WP 1.2 Forecast Sales'!E7*1000 -> 1.3457359e+08 | F13: ='WP 1.2 Forecast Sales'!F7*1000 -> 1.3176554e+08 | G13: ='WP 1.2 Forecast Sales'!G7*1000 -> 1.3166172e+08 | H13: ='WP 1.2 Forecast Sales'!H7*1000 -> 1.3723121e+08 | I13: Workpaper No. 1; Page 1.2; Line 24 | J13: =J12+1 -> 3
A14: =A13+1 -> 4 | J14: =J13+1 -> 4
A15: =A14+1 -> 5 | B15: Medium and Large Commercial/Industrial | C15: ='WP 1.2 Forecast Sales'!C8*1000 -> 7.6570574e+08 | D15: ='WP 1.2 Forecast Sales'!D8*1000 -> 7.2964523e+08 | E15: ='WP 1.2 Forecast Sales'!E8*1000 -> 7.3533599e+08 | F15: ='WP 1.2 Forecast Sales'!F8*1000 -> 7.3694745e+08 | G15: ='WP 1.2 Forecast Sales'!G8*1000 -> 7.5018545e+08 | H15: ='WP 1.2 Forecast Sales'!H8*1000 -> 7.8555979e+08 | I15: Workpaper No. 1; Page 1.2; Line 25 | J15: =J14+1 -> 5
A16: =A15+1 -> 6 | J16: =J15+1 -> 6
A17: =A16+1 -> 7 | B17: Agriculture (PA and TOU-PA) | C17: ='WP 1.2 Forecast Sales'!C10*1000 -> 13091854 | D17: ='WP 1.2 Forecast Sales'!D10*1000 -> 11486892 | E17: ='WP 1.2 Forecast Sales'!E10*1000 -> 10732695 | F17: ='WP 1.2 Forecast Sales'!F10*1000 -> 12338071 | G17: ='WP 1.2 Forecast Sales'!G10*1000 -> 17539397 | H17: ='WP 1.2 Forecast Sales'!H10*1000 -> 19452397 | I17: Workpaper No. 1; Page 1.2; Line 26 | J17: =J16+1 -> 7
A18: =A17+1 -> 8 | J18: =J17+1 -> 8
A19: =A18+1 -> 9 | B19: Agriculture (PA-T-1) | C19: ='WP 1.2 Forecast Sales'!C11*1000 -> 12797460 | D19: ='WP 1.2 Forecast Sales'!D11*1000 -> 12196078 | E19: ='WP 1.2 Forecast Sales'!E11*1000 -> 11419642 | F19: ='WP 1.2 Forecast Sales'!F11*1000 -> 11837382 | G19: ='WP 1.2 Forecast Sales'!G11*1000 -> 13945731 | H19: ='WP 1.2 Forecast Sales'!H11*1000 -> 14406360 | I19: Workpaper No. 1; Page 1.2; Line 27 | J19: =J18+1 -> 9
A20: =A19+1 -> 10 | J20: =J19+1 -> 10
A21: =A20+1 -> 11 | B21: Street Lighting | C21: ='WP 1.2 Forecast Sales'!C12*1000 -> 6750778.9 | D21: ='WP 1.2 Forecast Sales'!D12*1000 -> 6612938.4 | E21: ='WP 1.2 Forecast Sales'!E12*1000 -> 6450801 | F21: ='WP 1.2 Forecast Sales'!F12*1000 -> 6274323.8 | G21: ='WP 1.2 Forecast Sales'!G12*1000 -> 6272576.2 | H21: ='WP 1.2 Forecast Sales'!H12*1000 -> 6313019.4 | I21: Workpaper No. 1; Page 1.2; Line 28 | J21: =J20+1 -> 11
A22: =A21+1 -> 12 | J22: =J21+1 -> 12
A23: =A22+1 -> 13 | B23: TOTAL | C23: =SUM(C11:C21) -> 1.5244043e+09 | D23: =SUM(D11:D21) -> 1.390911e+09 | E23: =SUM(E11:E21) -> 1.3270656e+09 | F23: =SUM(F11:F21) -> 1.2503098e+09 | G23: =SUM(G11:G21) -> 1.2493984e+09 | H23: =SUM(H11:H21) -> 1.3213066e+09 | I23: Sum Lines 1 thru 11 | J23: =J22+1 -> 13
A24: =A23+1 -> 14 | J24: =J23+1 -> 14
A25: =A24+1 -> 15 | J25: =J24+1 -> 15
A26: =A25+1 -> 16 | C26: $/(kWh) | D26: $/(kWh) | E26: $/(kWh) | F26: $/(kWh) | G26: $/(kWh) | H26: $/(kWh) | J26: =J25+1 -> 16
A27: =A26+1 -> 17 | J27: =J26+1 -> 17
A28: =A27+1 -> 18 | B28: Non-CAISO TRBAA Rate ($/kWh) @ Changed Rate | C28: =('Stmnt BL (Non-CAISO) - TRBAA'!C36) -> -0.00325 | D28: =$C28 -> -0.00325 | E28: =$C28 -> -0.00325 | F28: =$C28 -> -0.00325 | G28: =$C28 -> -0.00325 | H28: =$C28 -> -0.00325 | I28: Statement BL (Non-CAISO); Page 1; Line 27 | J28: =J27+1 -> 18
A29: =A28+1 -> 19 | J29: =J28+1 -> 19
A30: =A29+1 -> 20 | J30: =J29+1 -> 20
A31: =A30+1 -> 21 | C31: Revenues @ Changed Rates | D31: Revenues @ Changed Rates | E31: Revenues @ Changed Rates | F31: Revenues @ Changed Rates | G31: Revenues @ Changed Rates | H31: Revenues @ Changed Rates | J31: =J30+1 -> 21
A32: =A31+1 -> 22 | J32: =J31+1 -> 22
A33: =A32+1 -> 23 | B33: Residential Customers | C33: =C11*C$28 -> -1891341 | D33: =D11*D$28 -> -1601265.2 | E33: =E11*E$28 -> -1392796.8 | F33: =F11*F$28 -> -1141228 | G33: =G11*G$28 -> -1071829.1 | H33: =H11*H$28 -> -1164617.5 | I33: Line 1 x Line 18 | J33: =J32+1 -> 23
A34: =A33+1 -> 24 | J34: =J33+1 -> 24
A35: =A34+1 -> 25 | B35: Small Commercial | C35: =C13*C$28 -> -468348.93 | D35: =D13*D$28 -> -449386.74 | E35: =E13*E$28 -> -437364.18 | F35: =F13*F$28 -> -428238 | G35: =G13*G$28 -> -427900.58 | H35: =H13*H$28 -> -446001.42 | I35: Line 3 x Line 18 | J35: =J34+1 -> 25
A36: =A35+1 -> 26 | J36: =J35+1 -> 26
A37: =A36+1 -> 27 | B37: Medium and Large Commercial/Industrial | C37: =C15*C$28 -> -2488543.7 | D37: =D15*D$28 -> -2371347 | E37: =E15*E$28 -> -2389842 | F37: =F15*F$28 -> -2395079.2 | G37: =G15*G$28 -> -2438102.7 | H37: =H15*H$28 -> -2553069.3 | I37: Line 5 x Line 18 | J37: =J36+1 -> 27
A38: =A37+1 -> 28 | J38: =J37+1 -> 28
A39: =A38+1 -> 29 | B39: Agriculture (PA and TOU-PA) | C39: =C17*C$28 -> -42548.526 | D39: =D17*D$28 -> -37332.4 | E39: =E17*E$28 -> -34881.259 | F39: =F17*F$28 -> -40098.731 | G39: =G17*G$28 -> -57003.042 | H39: =H17*H$28 -> -63220.291 | I39: Line 7 x Line 18 | J39: =J38+1 -> 29
A40: =A39+1 -> 30 | J40: =J39+1 -> 30
A41: =A40+1 -> 31 | B41: Agriculture (PA-T-1) | C41: =C19*C$28 -> -41591.744 | D41: =D19*D$28 -> -39637.252 | E41: =E19*E$28 -> -37113.837 | F41: =F19*F$28 -> -38471.49 | G41: =G19*G$28 -> -45323.625 | H41: =H19*H$28 -> -46820.671 | I41: Line 9 x Line 18 | J41: =J40+1 -> 31
A42: =A41+1 -> 32 | J42: =J41+1 -> 32
A43: =A42+1 -> 33 | B43: Street Lighting | C43: =C21*C$28 -> -21940.031 | D43: =D21*D$28 -> -21492.05 | E43: =E21*E$28 -> -20965.103 | F43: =F21*F$28 -> -20391.552 | G43: =G21*G$28 -> -20385.873 | H43: =H21*H$28 -> -20517.313 | I43: Line 11 x Line 18 | J43: =J42+1 -> 33
...

Sheet Stmt BG - Page 4
A2: Statement BG
A3: SAN DIEGO GAS AND ELECTRIC COMPANY
A4: ='Stmt BG - Page 1'!A4 -> Transmission Revenue Balancing Account Adjustment (TRBAA) Revenues Data to Reflect Changed Rates
A5: ='Stmt BG - Page 1'!A6 -> Rate Effective Period - Twelve Months Ending December 31, 2027
C7: (H) | D7: (I) | E7: (J) | F7: (K) | G7: (L) | H7: (M) | I7: (N) | J7: (O)
A8: Line | C8: ='Stmt BG - Page 2'!C26 -> 46569 | D8: ='Stmt BG - Page 2'!D26 -> 46600 | E8: ='Stmt BG - Page 2'!E26 -> 46631 | F8: ='Stmt BG - Page 2'!F26 -> 46661 | G8: ='Stmt BG - Page 2'!G26 -> 46692 | H8: ='Stmt BG - Page 2'!H26 -> 46722 | I8: Total | K8: Line
A9: No. | B9: Customer Classes | C9: Energy (kWh) | D9: Energy (kWh) | E9: Energy (kWh) | F9: Energy (kWh) | G9: Energy (kWh) | H9: Energy (kWh) | I9: Energy (kWh) | J9: Reference | K9: No.
A11: 1 | B11: Residential Customers | C11: ='WP 1.2 Forecast Sales'!I6*1000 -> 4.4748645e+08 | D11: ='WP 1.2 Forecast Sales'!J6*1000 -> 5.7859061e+08 | E11: ='WP 1.2 Forecast Sales'!K6*1000 -> 6.9726797e+08 | F11: ='WP 1.2 Forecast Sales'!L6*1000 -> 4.9092576e+08 | G11: ='WP 1.2 Forecast Sales'!M6*1000 -> 4.3774749e+08 | H11: ='WP 1.2 Forecast Sales'!N6*1000 -> 5.0733897e+08 | I11: =SUM('Stmt BG - Page 3'!C11:H11)+SUM('Stmt BG - Page 4'!C11:H11) -> 5.7018426e+09 | J11: Workpaper No. 1; Page 1.2; Line 23 | K11: 1
A12: =A11+1 -> 2 | K12: =K11+1 -> 2
A13: =A12+1 -> 3 | B13: Small Commercial | C13: ='WP 1.2 Forecast Sales'!I7*1000 -> 1.5184345e+08 | D13: ='WP 1.2 Forecast Sales'!J7*1000 -> 1.5832935e+08 | E13: ='WP 1.2 Forecast Sales'!K7*1000 -> 1.6721365e+08 | F13: ='WP 1.2 Forecast Sales'!L7*1000 -> 1.473263e+08 | G13: ='WP 1.2 Forecast Sales'!M7*1000 -> 1.3691155e+08 | H13: ='WP 1.2 Forecast Sales'!N7*1000 -> 1.3679238e+08 | I13: =SUM('Stmt BG - Page 3'!C13:H13)+SUM('Stmt BG - Page 4'!C13:H13) -> 1.7160289e+09 | J13: Workpaper No. 1; Page 1.2; Line 24 | K13: =K12+1 -> 3
A14: =A13+1 -> 4 | K14: =K13+1 -> 4
A15: =A14+1 -> 5 | B15: Medium and Large Commercial/Industrial | C15: ='WP 1.2 Forecast Sales'!I8*1000 -> 8.5941818e+08 | D15: ='WP 1.2 Forecast Sales'!J8*1000 -> 8.9135285e+08 | E15: ='WP 1.2 Forecast Sales'!K8*1000 -> 9.4405227e+08 | F15: ='WP 1.2 Forecast Sales'!L8*1000 -> 8.6372207e+08 | G15: ='WP 1.2 Forecast Sales'!M8*1000 -> 8.0147662e+08 | H15: ='WP 1.2 Forecast Sales'!N8*1000 -> 7.8142517e+08 | I15: =SUM('Stmt BG - Page 3'!C15:H15)+SUM('Stmt BG - Page 4'!C15:H15) -> 9.6448268e+09 | J15: Workpaper No. 1; Page 1.2; Line 25 | K15: =K14+1 -> 5
A16: =A15+1 -> 6 | K16: =K15+1 -> 6
A17: =A16+1 -> 7 | B17: Agriculture (PA and TOU-PA) | C17: ='WP 1.2 Forecast Sales'!I10*1000 -> 22099864 | D17: ='WP 1.2 Forecast Sales'!J10*1000 -> 23824802 | E17: ='WP 1.2 Forecast Sales'!K10*1000 -> 23812413 | F17: ='WP 1.2 Forecast Sales'!L10*1000 -> 21365682 | G17: ='WP 1.2 Forecast Sales'!M10*1000 -> 18296414 | H17: ='WP 1.2 Forecast Sales'!N10*1000 -> 16524176 | I17: =SUM('Stmt BG - Page 3'!C17:H17)+SUM('Stmt BG - Page 4'!C17:H17) -> 2.1056466e+08 | J17: Workpaper No. 1; Page 1.2; Line 26 | K17: =K16+1 -> 7
A18: =A17+1 -> 8 | K18: =K17+1 -> 8
A19: =A18+1 -> 9 | B19: Agriculture (PA-T-1) | C19: ='WP 1.2 Forecast Sales'!I11*1000 -> 15724699 | D19: ='WP 1.2 Forecast Sales'!J11*1000 -> 15624735 | E19: ='WP 1.2 Forecast Sales'!K11*1000 -> 15600770 | F19: ='WP 1.2 Forecast Sales'!L11*1000 -> 14881191 | G19: ='WP 1.2 Forecast Sales'!M11*1000 -> 13690473 | H19: ='WP 1.2 Forecast Sales'!N11*1000 -> 12366035 | I19: =SUM('Stmt BG - Page 3'!C19:H19)+SUM('Stmt BG - Page 4'!C19:H19) -> 1.6449056e+08 | J19: Workpaper No. 1; Page 1.2; Line 27 | K19: =K18+1 -> 9
A20: =A19+1 -> 10 | K20: =K19+1 -> 10
A21: =A20+1 -> 11 | B21: Street Lighting | C21: ='WP 1.2 Forecast Sales'!I12*1000 -> 6230200.2 | D21: ='WP 1.2 Forecast Sales'!J12*1000 -> 6462615.6 | E21: ='WP 1.2 Forecast Sales'!K12*1000 -> 6203566.8 | F21: ='WP 1.2 Forecast Sales'!L12*1000 -> 6483806.2 | G21: ='WP 1.2 Forecast Sales'!M12*1000 -> 6805735.6 | H21: ='WP 1.2 Forecast Sales'!N12*1000 -> 6823517.9 | I21: =SUM('Stmt BG - Page 3'!C21:H21)+SUM('Stmt BG - Page 4'!C21:H21) -> 77683880 | J21: Workpaper No. 1; Page 1.2; Line 28 | K21: =K20+1 -> 11
A22: =A21+1 -> 12 | K22: =K21+1 -> 12
A23: =A22+1 -> 13 | B23: TOTAL | C23: =SUM(C11:C21) -> 1.5028028e+09 | D23: =SUM(D11:D21) -> 1.674185e+09 | E23: =SUM(E11:E21) -> 1.8541506e+09 | F23: =SUM(F11:F21) -> 1.5447048e+09 | G23: =SUM(G11:G21) -> 1.4149283e+09 | H23: =SUM(H11:H21) -> 1.4612702e+09 | I23: =SUM(I11:I21) -> 1.7515437e+10 | J23: Sum Lines 1 thru 11 | K23: =K22+1 -> 13
A24: =A23+1 -> 14 | K24: =K23+1 -> 14
A25: =A24+1 -> 15 | K25: =K24+1 -> 15
A26: =A25+1 -> 16 | C26: $/(kWh) | D26: $/(kWh) | E26: $/(kWh) | F26: $/(kWh) | G26: $/(kWh) | H26: $/(kWh) | K26: =K25+1 -> 16
A27: =A26+1 -> 17 | K27: =K26+1 -> 17
A28: =A27+1 -> 18 | B28: ='Stmt BG - Page 3'!B28 -> Non-CAISO TRBAA Rate ($/kWh) @ Changed Rate | C28: ='Stmt BG - Page 3'!C28 -> -0.00325 | D28: =$C28 -> -0.00325 | E28: =$C28 -> -0.00325 | F28: =$C28 -> -0.00325 | G28: =$C28 -> -0.00325 | H28: =$C28 -> -0.00325 | J28: ='Stmt BG - Page 3'!I28 -> Statement BL (Non-CAISO); Page 1; Line 27 | K28: =K27+1 -> 18
A29: =A28+1 -> 19 | K29: =K28+1 -> 19
A30: =A29+1 -> 20 | K30: =K29+1 -> 20
A31: =A30+1 -> 21 | C31: Revenues @ Changed Rates | D31: Revenues @ Changed Rates | E31: Revenues @ Changed Rates | F31: Revenues @ Changed Rates | G31: Revenues @ Changed Rates | H31: Revenues @ Changed Rates | I31: Revenues @ Changed Rates | K31: =K30+1 -> 21
A32: =A31+1 -> 22 | K32: =K31+1 -> 22
A33: =A32+1 -> 23 | B33: Residential Customers | C33: =C11*C$28 -> -1454331 | D33: =D11*D$28 -> -1880419.5 | E33: =E11*E$28 -> -2266120.9 | F33: =F11*F$28 -> -1595508.7 | G33: =G11*G$28 -> -1422679.3 | H33: =H11*H$28 -> -1648851.6 | I33: =SUM('Stmt BG - Page 3'!C33:H33)+SUM('Stmt BG - Page 4'!C33:H33) -> -18530989 | J33: Line 1 x Line 18 | K33: =K32+1 -> 23
A34: =A33+1 -> 24 | K34: =K33+1 -> 24
A35: =A34+1 -> 25 | B35: Small Commercial | C35: =C13*C$28 -> -493491.2 | D35: =D13*D$28 -> -514570.39 | E35: =E13*E$28 -> -543444.38 | F35: =F13*F$28 -> -478810.48 | G35: =G13*G$28 -> -444962.55 | H35: =H13*H$28 -> -444575.23 | I35: =SUM('Stmt BG - Page 3'!C35:H35)+SUM('Stmt BG - Page 4'!C35:H35) -> -5577094.1 | J35: Line 3 x Line 18 | K35: =K34+1 -> 25
A36: =A35+1 -> 26 | K36: =K35+1 -> 26
A37: =A36+1 -> 27 | B37: Medium and Large Commercial/Industrial | C37: =C15*C$28 -> -2793109.1 | D37: =D15*D$28 -> -2896896.8 | E37: =E15*E$28 -> -3068169.9 | F37: =F15*F$28 -> -2807096.7 | G37: =G15*G$28 -> -2604799 | H37: =H15*H$28 -> -2539631.8 | I37: =SUM('Stmt BG - Page 3'!C37:H37)+SUM('Stmt BG - Page 4'!C37:H37) -> -31345687 | J37: Line 5 x Line 18 | K37: =K36+1 -> 27
A38: =A37+1 -> 28 | K38: =K37+1 -> 28
A39: =A38+1 -> 29 | B39: Agriculture (PA and TOU-PA) | C39: =C17*C$28 -> -71824.558 | D39: =D17*D$28 -> -77430.608 | E39: =E17*E$28 -> -77390.342 | F39: =F17*F$28 -> -69438.466 | G39: =G17*G$28 -> -59463.344 | H39: =H17*H$28 -> -53703.573 | I39: =SUM('Stmt BG - Page 3'!C39:H39)+SUM('Stmt BG - Page 4'!C39:H39) -> -684335.14 | J39: Line 7 x Line 18 | K39: =K38+1 -> 29
A40: =A39+1 -> 30 | K40: =K39+1 -> 30
A41: =A40+1 -> 31 | B41: Agriculture (PA-T-1) | C41: =C19*C$28 -> -51105.273 | D41: =D19*D$28 -> -50780.389 | E41: =E19*E$28 -> -50702.502 | F41: =F19*F$28 -> -48363.872 | G41: =G19*G$28 -> -44494.037 | H41: =H19*H$28 -> -40189.614 | I41: =SUM('Stmt BG - Page 3'!C41:H41)+SUM('Stmt BG - Page 4'!C41:H41) -> -534594.31 | J41: Line 9 x Line 18 | K41: =K40+1 -> 31
A42: =A41+1 -> 32 | K42: =K41+1 -> 32
A43: =A42+1 -> 33 | B43: Street Lighting | C43: =C21*C$28 -> -20248.151 | D43: =D21*D$28 -> -21003.501 | E43: =E21*E$28 -> -20161.592 | F43: =F21*F$28 -> -21072.37 | G43: =G21*G$28 -> -22118.641 | H43: =H21*H$28 -> -22176.433 | I43: =SUM('Stmt BG - Page 3'!C43:H43)+SUM('Stmt BG - Page 4'!C43:H43) -> -252472.61 | J43: Line 11 x Line 18 | K43: =K42+1 -> 33
...

Sheet Stmt BH - Page 1
A2: Statement BH
A3: SAN DIEGO GAS & ELECTRIC COMPANY
A4: Transmission Revenue Balancing Account Adjustment (TRBAA) Revenue Data To Reflect Present Rates per ER26-336
A5: ='Stmt BG - Page 1'!A6 -> Rate Effective Period - Twelve Months Ending December 31, 2027
A7: Line | C7: (A) | D7: (B) | E7: (C) | F7: (D) | G7: (E) | H7: (F) | I7: (G) | J7: Line
A8: No. | B8: Customer Classes | C8: ='Stmt BG - Page 2'!C8 -> 46388 | D8: ='Stmt BG - Page 2'!D8 -> 46419 | E8: ='Stmt BG - Page 2'!E8 -> 46447 | F8: ='Stmt BG - Page 2'!F8 -> 46478 | G8: ='Stmt BG - Page 2'!G8 -> 46508 | H8: ='Stmt BG - Page 2'!H8 -> 46539 | J8: No.
A10: 1 | B10: Residential 1 | C10: ='Stmt BH - Page 2'!C33 -> -1769131.2 | D10: ='Stmt BH - Page 2'!D33 -> -1497798.8 | E10: ='Stmt BH - Page 2'!E33 -> -1302800.7 | F10: ='Stmt BH - Page 2'!F33 -> -1067487.1 | G10: ='Stmt BH - Page 2'!G33 -> -1002572.4 | H10: ='Stmt BH - Page 2'!H33 -> -1089365.3 | J10: 1
A11: =A10+1 -> 2 | J11: =J10+1 -> 2
A12: =A11+1 -> 3 | B12: Small Commercial 2 | C12: ='Stmt BH - Page 2'!C35 -> -438086.38 | D12: ='Stmt BH - Page 2'!D35 -> -420349.44 | E12: ='Stmt BH - Page 2'!E35 -> -409103.73 | F12: ='Stmt BH - Page 2'!F35 -> -400567.23 | G12: ='Stmt BH - Page 2'!G35 -> -400251.62 | H12: ='Stmt BH - Page 2'!H35 -> -417182.87 | J12: =J11+1 -> 3
A13: =A12+1 -> 4 | J13: =J12+1 -> 4
A14: =A13+1 -> 5 | B14: Medium and Large Commercial/Industrial 3 | C14: ='Stmt BH - Page 2'!C37 -> -2327745.5 | D14: ='Stmt BH - Page 2'!D37 -> -2218121.5 | E14: ='Stmt BH - Page 2'!E37 -> -2235421.4 | F14: ='Stmt BH - Page 2'!F37 -> -2240320.2 | G14: ='Stmt BH - Page 2'!G37 -> -2280563.8 | H14: ='Stmt BH - Page 2'!H37 -> -2388101.8 | J14: =J13+1 -> 5
A15: =A14+1 -> 6 | J15: =J14+1 -> 6
A16: =A15+1 -> 7 | B16: Agriculture (PA and TOU-PA) 4 | C16: ='Stmt BH - Page 2'!C39 -> -39799.237 | D16: ='Stmt BH - Page 2'!D39 -> -34920.152 | E16: ='Stmt BH - Page 2'!E39 -> -32627.393 | F16: ='Stmt BH - Page 2'!F39 -> -37507.736 | G16: ='Stmt BH - Page 2'!G39 -> -53319.768 | H16: ='Stmt BH - Page 2'!H39 -> -59135.288 | J16: =J15+1 -> 7
A17: =A16+1 -> 8 | J17: =J16+1 -> 8
A18: =A17+1 -> 9 | B18: Agriculture (PA-T-1) 5 | C18: ='Stmt BH - Page 2'!C41 -> -38904.278 | D18: ='Stmt BH - Page 2'!D41 -> -37076.076 | E18: ='Stmt BH - Page 2'!E41 -> -34715.713 | F18: ='Stmt BH - Page 2'!F41 -> -35985.64 | G18: ='Stmt BH - Page 2'!G41 -> -42395.022 | H18: ='Stmt BH - Page 2'!H41 -> -43795.335 | J18: =J17+1 -> 9
A19: =A18+1 -> 10 | J19: =J18+1 -> 10
A20: =A19+1 -> 11 | B20: Street Lighting 6 | C20: ='Stmt BH - Page 2'!C43 -> -20522.368 | D20: ='Stmt BH - Page 2'!D43 -> -20103.333 | E20: ='Stmt BH - Page 2'!E43 -> -19610.435 | F20: ='Stmt BH - Page 2'!F43 -> -19073.944 | G20: ='Stmt BH - Page 2'!G43 -> -19068.632 | H20: ='Stmt BH - Page 2'!H43 -> -19191.579 | J20: =J19+1 -> 11
A21: =A20+1 -> 12 | J21: =J20+1 -> 12
A22: =A21+1 -> 13 | B22: TOTAL | C22: =SUM(C10:C20) -> -4634189 | D22: =SUM(D10:D20) -> -4228369.3 | E22: =SUM(E10:E20) -> -4034279.4 | F22: =SUM(F10:F20) -> -3800941.9 | G22: =SUM(G10:G20) -> -3798171.2 | H22: =SUM(H10:H20) -> -4016772.1 | J22: =J21+1 -> 13
A25: Line | C25: =C7 -> (A) | D25: =D7 -> (B) | E25: =E7 -> (C) | F25: =F7 -> (D) | G25: =G7 -> (E) | H25: =H7 -> (F) | I25: =I7 -> (G) | J25: Line
A26: No. | B26: Customer Classes | C26: ='Stmt BG - Page 2'!C26 -> 46569 | D26: ='Stmt BG - Page 2'!D26 -> 46600 | E26: ='Stmt BG - Page 2'!E26 -> 46631 | F26: ='Stmt BG - Page 2'!F26 -> 46661 | G26: ='Stmt BG - Page 2'!G26 -> 46692 | H26: ='Stmt BG - Page 2'!H26 -> 46722 | J26: No.
A28: =A22+1 -> 14 | B28: Residential 1 | C28: ='Stmt BH - Page 3'!C33 -> -1360358.8 | D28: ='Stmt BH - Page 3'!D33 -> -1758915.5 | E28: ='Stmt BH - Page 3'!E33 -> -2119694.6 | F28: ='Stmt BH - Page 3'!F33 -> -1492414.3 | G28: ='Stmt BH - Page 3'!G33 -> -1330752.4 | H28: ='Stmt BH - Page 3'!H33 -> -1542310.5 | I28: =SUM(C10:H10,C28:H28) -> -17333602 | J28: =J22+1 -> 14
A29: =A28+1 -> 15 | J29: =J28+1 -> 15
A30: =A29+1 -> 16 | B30: Small Commercial 2 | C30: ='Stmt BH - Page 3'!C35 -> -461604.08 | D30: ='Stmt BH - Page 3'!D35 -> -481321.22 | E30: ='Stmt BH - Page 3'!E35 -> -508329.51 | F30: ='Stmt BH - Page 3'!F35 -> -447871.96 | G30: ='Stmt BH - Page 3'!G35 -> -416211.13 | H30: ='Stmt BH - Page 3'!H35 -> -415848.83 | I30: =SUM(C12:H12,C30:H30) -> -5216728 | J30: =J29+1 -> 16
A31: =A30+1 -> 17 | J31: =J30+1 -> 17
A32: =A31+1 -> 18 | B32: Medium and Large Commercial/Industrial 3 | C32: ='Stmt BH - Page 3'!C37 -> -2612631.3 | D32: ='Stmt BH - Page 3'!D37 -> -2709712.7 | E32: ='Stmt BH - Page 3'!E37 -> -2869918.9 | F32: ='Stmt BH - Page 3'!F37 -> -2625715.1 | G32: ='Stmt BH - Page 3'!G37 -> -2436488.9 | H32: ='Stmt BH - Page 3'!H37 -> -2375532.5 | I32: =SUM(C14:H14,C32:H32) -> -29320274 | J32: =J31+1 -> 18
A33: =A32+1 -> 19 | J33: =J32+1 -> 19
A34: =A33+1 -> 20 | B34: Agriculture (PA and TOU-PA) 4 | C34: ='Stmt BH - Page 3'!C39 -> -67183.587 | D34: ='Stmt BH - Page 3'!D39 -> -72427.4 | E34: ='Stmt BH - Page 3'!E39 -> -72389.735 | F34: ='Stmt BH - Page 3'!F39 -> -64951.673 | G34: ='Stmt BH - Page 3'!G39 -> -55621.098 | H34: ='Stmt BH - Page 3'!H39 -> -50233.496 | I34: =SUM(C16:H16,C34:H34) -> -640116.56 | J34: =J33+1 -> 20
A35: =A34+1 -> 21 | J35: =J34+1 -> 21
A36: =A35+1 -> 22 | B36: Agriculture (PA-T-1) 5 | C36: ='Stmt BH - Page 3'!C41 -> -47803.086 | D36: ='Stmt BH - Page 3'!D41 -> -47499.194 | E36: ='Stmt BH - Page 3'!E41 -> -47426.34 | F36: ='Stmt BH - Page 3'!F41 -> -45238.822 | G36: ='Stmt BH - Page 3'!G41 -> -41619.038 | H36: ='Stmt BH - Page 3'!H41 -> -37592.746 | I36: =SUM(C18:H18,C36:H36) -> -500051.29 | J36: =J35+1 -> 22
A37: =A36+1 -> 23 | J37: =J36+1 -> 23
A38: =A37+1 -> 24 | B38: Street Lighting 6 | C38: ='Stmt BH - Page 3'!C43 -> -18939.809 | D38: ='Stmt BH - Page 3'!D43 -> -19646.351 | E38: ='Stmt BH - Page 3'!E43 -> -18858.843 | F38: ='Stmt BH - Page 3'!F43 -> -19710.771 | G38: ='Stmt BH - Page 3'!G43 -> -20689.436 | H38: ='Stmt BH - Page 3'!H43 -> -20743.494 | I38: =SUM(C20:H20,C38:H38) -> -236158.99 | J38: =J37+1 -> 24
A39: =A38+1 -> 25 | J39: =J38+1 -> 25
A40: =A39+1 -> 26 | B40: TOTAL | C40: =SUM(C28:C38) -> -4568520.6 | D40: =SUM(D28:D38) -> -5089522.3 | E40: =SUM(E28:E38) -> -5636618 | F40: =SUM(F28:F38) -> -4695902.6 | G40: =SUM(G28:G38) -> -4301382 | H40: =SUM(H28:H38) -> -4442261.5 | I40: =SUM(I28:I38) -> -53246930 | J40: =J39+1 -> 26
A43: 1 | B43: See Stmt BH pages 2 of 3 and 3 of 3, Line 23. | F43: 4 | G43: See Stmt BH pages 2 of 3 and 3 of 3, Line 29.
A44: 2 | B44: See Stmt BH pages 2 of 3 and 3 of 3, Line 25. | F44: 5 | G44: See Stmt BH pages 2 of 3 and 3 of 3, Line 31.
A45: 3 | B45: See Stmt BH pages 2 of 3 and 3 of 3, Line 27. | F45: 6 | G45: See Stmt BH pages 2 of 3 and 3 of 3, Line 33.

Sheet Stmt BH - Page 2
A2: Statement BH
A3: SAN DIEGO GAS AND ELECTRIC COMPANY
A4: ='Stmt BH - Page 1'!A4:J4 -> Transmission Revenue Balancing Account Adjustment (TRBAA) Revenue Data To Reflect Present Rates per ER26-336
A5: ='Stmt BH - Page 1'!A5 -> Rate Effective Period - Twelve Months Ending December 31, 2027
C7: (A) | D7: (B) | E7: (C) | F7: (D) | G7: (E) | H7: (F) | I7: (F)
A8: Line | C8: ='Stmt BH - Page 1'!C8 -> 46388 | D8: ='Stmt BH - Page 1'!D8 -> 46419 | E8: ='Stmt BH - Page 1'!E8 -> 46447 | F8: ='Stmt BH - Page 1'!F8 -> 46478 | G8: ='Stmt BH - Page 1'!G8 -> 46508 | H8: ='Stmt BH - Page 1'!H8 -> 46539 | J8: Line
A9: No. | B9: Customer Classes | C9: Energy (kWh) | D9: Energy (kWh) | E9: Energy (kWh) | F9: Energy (kWh) | G9: Energy (kWh) | H9: Energy (kWh) | I9: Reference | J9: No.
A11: 1 | B11: Residential Customers | C11: ='WP 1.2 Forecast Sales'!C6*1000 -> 5.8195106e+08 | D11: ='WP 1.2 Forecast Sales'!D6*1000 -> 4.9269698e+08 | E11: ='WP 1.2 Forecast Sales'!E6*1000 -> 4.2855285e+08 | F11: ='WP 1.2 Forecast Sales'!F6*1000 -> 3.5114708e+08 | G11: ='WP 1.2 Forecast Sales'!G6*1000 -> 3.2979355e+08 | H11: ='WP 1.2 Forecast Sales'!H6*1000 -> 3.5834385e+08 | I11: Workpaper No. 1; Page 1.2; Line 23 | J11: 1
A12: =A11+1 -> 2 | J12: =J11+1 -> 2
A13: =A12+1 -> 3 | B13: Small Commercial | C13: ='WP 1.2 Forecast Sales'!C7*1000 -> 1.4410736e+08 | D13: ='WP 1.2 Forecast Sales'!D7*1000 -> 1.3827284e+08 | E13: ='WP 1.2 Forecast Sales'!E7*1000 -> 1.3457359e+08 | F13: ='WP 1.2 Forecast Sales'!F7*1000 -> 1.3176554e+08 | G13: ='WP 1.2 Forecast Sales'!G7*1000 -> 1.3166172e+08 | H13: ='WP 1.2 Forecast Sales'!H7*1000 -> 1.3723121e+08 | I13: Workpaper No. 1; Page 1.2; Line 24 | J13: =J12+1 -> 3
A14: =A13+1 -> 4 | J14: =J13+1 -> 4
A15: =A14+1 -> 5 | B15: Medium and Large Commercial/Industrial | C15: ='WP 1.2 Forecast Sales'!C8*1000 -> 7.6570574e+08 | D15: ='WP 1.2 Forecast Sales'!D8*1000 -> 7.2964523e+08 | E15: ='WP 1.2 Forecast Sales'!E8*1000 -> 7.3533599e+08 | F15: ='WP 1.2 Forecast Sales'!F8*1000 -> 7.3694745e+08 | G15: ='WP 1.2 Forecast Sales'!G8*1000 -> 7.5018545e+08 | H15: ='WP 1.2 Forecast Sales'!H8*1000 -> 7.8555979e+08 | I15: Workpaper No. 1; Page 1.2; Line 25 | J15: =J14+1 -> 5
A16: =A15+1 -> 6 | J16: =J15+1 -> 6
A17: =A16+1 -> 7 | B17: Agriculture (PA and TOU-PA) | C17: ='WP 1.2 Forecast Sales'!C10*1000 -> 13091854 | D17: ='WP 1.2 Forecast Sales'!D10*1000 -> 11486892 | E17: ='WP 1.2 Forecast Sales'!E10*1000 -> 10732695 | F17: ='WP 1.2 Forecast Sales'!F10*1000 -> 12338071 | G17: ='WP 1.2 Forecast Sales'!G10*1000 -> 17539397 | H17: ='WP 1.2 Forecast Sales'!H10*1000 -> 19452397 | I17: Workpaper No. 1; Page 1.2; Line 26 | J17: =J16+1 -> 7
A18: =A17+1 -> 8 | J18: =J17+1 -> 8
A19: =A18+1 -> 9 | B19: Agriculture (PA-T-1) | C19: ='WP 1.2 Forecast Sales'!C11*1000 -> 12797460 | D19: ='WP 1.2 Forecast Sales'!D11*1000 -> 12196078 | E19: ='WP 1.2 Forecast Sales'!E11*1000 -> 11419642 | F19: ='WP 1.2 Forecast Sales'!F11*1000 -> 11837382 | G19: ='WP 1.2 Forecast Sales'!G11*1000 -> 13945731 | H19: ='WP 1.2 Forecast Sales'!H11*1000 -> 14406360 | I19: Workpaper No. 1; Page 1.2; Line 27 | J19: =J18+1 -> 9
A20: =A19+1 -> 10 | J20: =J19+1 -> 10
A21: =A20+1 -> 11 | B21: Street Lighting | C21: ='WP 1.2 Forecast Sales'!C12*1000 -> 6750778.9 | D21: ='WP 1.2 Forecast Sales'!D12*1000 -> 6612938.4 | E21: ='WP 1.2 Forecast Sales'!E12*1000 -> 6450801 | F21: ='WP 1.2 Forecast Sales'!F12*1000 -> 6274323.8 | G21: ='WP 1.2 Forecast Sales'!G12*1000 -> 6272576.2 | H21: ='WP 1.2 Forecast Sales'!H12*1000 -> 6313019.4 | I21: Workpaper No. 1; Page 1.2; Line 28 | J21: =J20+1 -> 11
A22: =A21+1 -> 12 | J22: =J21+1 -> 12
A23: =A22+1 -> 13 | B23: TOTAL | C23: =SUM(C11:C21) -> 1.5244043e+09 | D23: =SUM(D11:D21) -> 1.390911e+09 | E23: =SUM(E11:E21) -> 1.3270656e+09 | F23: =SUM(F11:F21) -> 1.2503098e+09 | G23: =SUM(G11:G21) -> 1.2493984e+09 | H23: =SUM(H11:H21) -> 1.3213066e+09 | I23: Sum Lines 1 thru 11 | J23: =J22+1 -> 13
A24: =A23+1 -> 14 | J24: =J23+1 -> 14
A25: =A24+1 -> 15 | J25: =J24+1 -> 15
A26: =A25+1 -> 16 | C26: $/(kWh) | D26: $/(kWh) | E26: $/(kWh) | F26: $/(kWh) | G26: $/(kWh) | H26: $/(kWh) | J26: =J25+1 -> 16
A27: =A26+1 -> 17 | I27: Statement BL (Non-CAISO); Page 1; Line 27 | J27: =J26+1 -> 17
A28: =A27+1 -> 18 | B28: Non-CAISO TRBAA Rate ($/kWh) @ Present Rate | C28: -0.00304 | D28: =$C28 -> -0.00304 | E28: =$C28 -> -0.00304 | F28: =$C28 -> -0.00304 | G28: =$C28 -> -0.00304 | H28: =$C28 -> -0.00304 | I28: FERC Docket No. ER26-336-000 | J28: =J27+1 -> 18
A29: =A28+1 -> 19 | J29: =J28+1 -> 19
A30: =A29+1 -> 20 | J30: =J29+1 -> 20
A31: =A30+1 -> 21 | C31: TRBAA @ Present Rates | D31: TRBAA @ Present Rates | E31: TRBAA @ Present Rates | F31: TRBAA @ Present Rates | G31: TRBAA @ Present Rates | H31: TRBAA @ Present Rates | J31: =J30+1 -> 21
A32: =A31+1 -> 22 | J32: =J31+1 -> 22
A33: =A32+1 -> 23 | B33: Residential Customers | C33: =C11*C$28 -> -1769131.2 | D33: =D11*D$28 -> -1497798.8 | E33: =E11*E$28 -> -1302800.7 | F33: =F11*F$28 -> -1067487.1 | G33: =G11*G$28 -> -1002572.4 | H33: =H11*H$28 -> -1089365.3 | I33: Line 1 x Line 18 | J33: =J32+1 -> 23
A34: =A33+1 -> 24 | J34: =J33+1 -> 24
A35: =A34+1 -> 25 | B35: Small Commercial | C35: =C13*C$28 -> -438086.38 | D35: =D13*D$28 -> -420349.44 | E35: =E13*E$28 -> -409103.73 | F35: =F13*F$28 -> -400567.23 | G35: =G13*G$28 -> -400251.62 | H35: =H13*H$28 -> -417182.87 | I35: Line 3 x Line 18 | J35: =J34+1 -> 25
A36: =A35+1 -> 26 | J36: =J35+1 -> 26
A37: =A36+1 -> 27 | B37: Medium and Large Commercial/Industrial | C37: =C15*C$28 -> -2327745.5 | D37: =D15*D$28 -> -2218121.5 | E37: =E15*E$28 -> -2235421.4 | F37: =F15*F$28 -> -2240320.2 | G37: =G15*G$28 -> -2280563.8 | H37: =H15*H$28 -> -2388101.8 | I37: Line 5 x Line 18 | J37: =J36+1 -> 27
A38: =A37+1 -> 28 | J38: =J37+1 -> 28
A39: =A38+1 -> 29 | B39: Agriculture (PA and TOU-PA) | C39: =C17*C$28 -> -39799.237 | D39: =D17*D$28 -> -34920.152 | E39: =E17*E$28 -> -32627.393 | F39: =F17*F$28 -> -37507.736 | G39: =G17*G$28 -> -53319.768 | H39: =H17*H$28 -> -59135.288 | I39: Line 7 x Line 18 | J39: =J38+1 -> 29
A40: =A39+1 -> 30 | J40: =J39+1 -> 30
A41: =A40+1 -> 31 | B41: Agriculture (PA-T-1) | C41: =C19*C$28 -> -38904.278 | D41: =D19*D$28 -> -37076.076 | E41: =E19*E$28 -> -34715.713 | F41: =F19*F$28 -> -35985.64 | G41: =G19*G$28 -> -42395.022 | H41: =H19*H$28 -> -43795.335 | I41: Line 9 x Line 18 | J41: =J40+1 -> 31
A42: =A41+1 -> 32 | J42: =J41+1 -> 32
A43: =A42+1 -> 33 | B43: Street Lighting | C43: =C21*C$28 -> -20522.368 | D43: =D21*D$28 -> -20103.333 | E43: =E21*E$28 -> -19610.435 | F43: =F21*F$28 -> -19073.944 | G43: =G21*G$28 -> -19068.632 | H43: =H21*H$28 -> -19191.579 | I43: Line 11 x Line 18 | J43: =J42+1 -> 33
...

Sheet Stmt BH - Page 3
A2: Statement BH
A3: SAN DIEGO GAS AND ELECTRIC COMPANY
A4: ='Stmt BH - Page 1'!A4:J4 -> Transmission Revenue Balancing Account Adjustment (TRBAA) Revenue Data To Reflect Present Rates per ER26-336
A5: ='Stmt BH - Page 1'!A5 -> Rate Effective Period - Twelve Months Ending December 31, 2027
C7: (G) | D7: (H) | E7: (I) | F7: (J) | G7: (K) | H7: (L) | I7: (M) | J7: (M)
A8: Line | C8: ='Stmt BH - Page 1'!C26 -> 46569 | D8: ='Stmt BH - Page 1'!D26 -> 46600 | E8: ='Stmt BH - Page 1'!E26 -> 46631 | F8: ='Stmt BH - Page 1'!F26 -> 46661 | G8: ='Stmt BH - Page 1'!G26 -> 46692 | H8: ='Stmt BH - Page 1'!H26 -> 46722 | I8: Total | K8: Line
A9: No. | B9: Customer Classes | C9: Energy (kWh) | D9: Energy (kWh) | E9: Energy (kWh) | F9: Energy (kWh) | G9: Energy (kWh) | H9: Energy (kWh) | I9: Energy (kWh) | J9: Reference | K9: No.
A11: 1 | B11: Residential Customers | C11: ='WP 1.2 Forecast Sales'!I6*1000 -> 4.4748645e+08 | D11: ='WP 1.2 Forecast Sales'!J6*1000 -> 5.7859061e+08 | E11: ='WP 1.2 Forecast Sales'!K6*1000 -> 6.9726797e+08 | F11: ='WP 1.2 Forecast Sales'!L6*1000 -> 4.9092576e+08 | G11: ='WP 1.2 Forecast Sales'!M6*1000 -> 4.3774749e+08 | H11: ='WP 1.2 Forecast Sales'!N6*1000 -> 5.0733897e+08 | I11: =SUM(C11:H11)+SUM('Stmt BH - Page 2'!C11:H11) -> 5.7018426e+09 | J11: Workpaper No. 1; Page 1.2; Line 23 | K11: 1
A12: =A11+1 -> 2 | K12: =K11+1 -> 2
A13: =A12+1 -> 3 | B13: Small Commercial | C13: ='WP 1.2 Forecast Sales'!I7*1000 -> 1.5184345e+08 | D13: ='WP 1.2 Forecast Sales'!J7*1000 -> 1.5832935e+08 | E13: ='WP 1.2 Forecast Sales'!K7*1000 -> 1.6721365e+08 | F13: ='WP 1.2 Forecast Sales'!L7*1000 -> 1.473263e+08 | G13: ='WP 1.2 Forecast Sales'!M7*1000 -> 1.3691155e+08 | H13: ='WP 1.2 Forecast Sales'!N7*1000 -> 1.3679238e+08 | I13: =SUM(C13:H13)+SUM('Stmt BH - Page 2'!C13:H13) -> 1.7160289e+09 | J13: Workpaper No. 1; Page 1.2; Line 24 | K13: =K12+1 -> 3
A14: =A13+1 -> 4 | K14: =K13+1 -> 4
A15: =A14+1 -> 5 | B15: Medium and Large Commercial/Industrial | C15: ='WP 1.2 Forecast Sales'!I8*1000 -> 8.5941818e+08 | D15: ='WP 1.2 Forecast Sales'!J8*1000 -> 8.9135285e+08 | E15: ='WP 1.2 Forecast Sales'!K8*1000 -> 9.4405227e+08 | F15: ='WP 1.2 Forecast Sales'!L8*1000 -> 8.6372207e+08 | G15: ='WP 1.2 Forecast Sales'!M8*1000 -> 8.0147662e+08 | H15: ='WP 1.2 Forecast Sales'!N8*1000 -> 7.8142517e+08 | I15: =SUM(C15:H15)+SUM('Stmt BH - Page 2'!C15:H15) -> 9.6448268e+09 | J15: Workpaper No. 1; Page 1.2; Line 25 | K15: =K14+1 -> 5
A16: =A15+1 -> 6 | K16: =K15+1 -> 6
A17: =A16+1 -> 7 | B17: Agriculture (PA and TOU-PA) | C17: ='WP 1.2 Forecast Sales'!I10*1000 -> 22099864 | D17: ='WP 1.2 Forecast Sales'!J10*1000 -> 23824802 | E17: ='WP 1.2 Forecast Sales'!K10*1000 -> 23812413 | F17: ='WP 1.2 Forecast Sales'!L10*1000 -> 21365682 | G17: ='WP 1.2 Forecast Sales'!M10*1000 -> 18296414 | H17: ='WP 1.2 Forecast Sales'!N10*1000 -> 16524176 | I17: =SUM(C17:H17)+SUM('Stmt BH - Page 2'!C17:H17) -> 2.1056466e+08 | J17: Workpaper No. 1; Page 1.2; Line 26 | K17: =K16+1 -> 7
A18: =A17+1 -> 8 | K18: =K17+1 -> 8
A19: =A18+1 -> 9 | B19: Agriculture (PA-T-1) | C19: ='WP 1.2 Forecast Sales'!I11*1000 -> 15724699 | D19: ='WP 1.2 Forecast Sales'!J11*1000 -> 15624735 | E19: ='WP 1.2 Forecast Sales'!K11*1000 -> 15600770 | F19: ='WP 1.2 Forecast Sales'!L11*1000 -> 14881191 | G19: ='WP 1.2 Forecast Sales'!M11*1000 -> 13690473 | H19: ='WP 1.2 Forecast Sales'!N11*1000 -> 12366035 | I19: =SUM(C19:H19)+SUM('Stmt BH - Page 2'!C19:H19) -> 1.6449056e+08 | J19: Workpaper No. 1; Page 1.2; Line 27 | K19: =K18+1 -> 9
A20: =A19+1 -> 10 | K20: =K19+1 -> 10
A21: =A20+1 -> 11 | B21: Street Lighting | C21: ='WP 1.2 Forecast Sales'!I12*1000 -> 6230200.2 | D21: ='WP 1.2 Forecast Sales'!J12*1000 -> 6462615.6 | E21: ='WP 1.2 Forecast Sales'!K12*1000 -> 6203566.8 | F21: ='WP 1.2 Forecast Sales'!L12*1000 -> 6483806.2 | G21: ='WP 1.2 Forecast Sales'!M12*1000 -> 6805735.6 | H21: ='WP 1.2 Forecast Sales'!N12*1000 -> 6823517.9 | I21: =SUM(C21:H21)+SUM('Stmt BH - Page 2'!C21:H21) -> 77683880 | J21: Workpaper No. 1; Page 1.2; Line 28 | K21: =K20+1 -> 11
A22: =A21+1 -> 12 | K22: =K21+1 -> 12
A23: =A22+1 -> 13 | B23: TOTAL | C23: =SUM(C11:C21) -> 1.5028028e+09 | D23: =SUM(D11:D21) -> 1.674185e+09 | E23: =SUM(E11:E21) -> 1.8541506e+09 | F23: =SUM(F11:F21) -> 1.5447048e+09 | G23: =SUM(G11:G21) -> 1.4149283e+09 | H23: =SUM(H11:H21) -> 1.4612702e+09 | I23: =SUM(I11:I21) -> 1.7515437e+10 | J23: Sum Lines 1 thru 11 | K23: =K22+1 -> 13
A24: =A23+1 -> 14 | K24: =K23+1 -> 14
A25: =A24+1 -> 15 | K25: =K24+1 -> 15
A26: =A25+1 -> 16 | C26: $/(kWh) | D26: $/(kWh) | E26: $/(kWh) | F26: $/(kWh) | G26: $/(kWh) | H26: $/(kWh) | K26: =K25+1 -> 16
A27: =A26+1 -> 17 | J27: ='Stmt BH - Page 2'!I27 -> Statement BL (Non-CAISO); Page 1; Line 27 | K27: =K26+1 -> 17
A28: =A27+1 -> 18 | B28: ='Stmt BH - Page 2'!B28 -> Non-CAISO TRBAA Rate ($/kWh) @ Present Rate | C28: ='Stmt BH - Page 2'!C28 -> -0.00304 | D28: =$C28 -> -0.00304 | E28: =$C28 -> -0.00304 | F28: =$C28 -> -0.00304 | G28: =$C28 -> -0.00304 | H28: =$C28 -> -0.00304 | J28: ='Stmt BH - Page 2'!I28 -> FERC Docket No. ER26-336-000 | K28: =K27+1 -> 18
A29: =A28+1 -> 19 | K29: =K28+1 -> 19
A30: =A29+1 -> 20 | K30: =K29+1 -> 20
A31: =A30+1 -> 21 | C31: TRBAA @ Present Rates | D31: TRBAA @ Present Rates | E31: TRBAA @ Present Rates | F31: TRBAA @ Present Rates | G31: TRBAA @ Present Rates | H31: TRBAA @ Present Rates | I31: TRBAA @ Present Rates | K31: =K30+1 -> 21
A32: =A31+1 -> 22 | K32: =K31+1 -> 22
A33: =A32+1 -> 23 | B33: Residential Customers | C33: =C11*C$28 -> -1360358.8 | D33: =D11*D$28 -> -1758915.5 | E33: =E11*E$28 -> -2119694.6 | F33: =F11*F$28 -> -1492414.3 | G33: =G11*G$28 -> -1330752.4 | H33: =H11*H$28 -> -1542310.5 | I33: =SUM('Stmt BH - Page 2'!C33:H33)+SUM('Stmt BH - Page 3'!C33:H33) -> -17333602 | J33: Line 1 x Line 18 | K33: =K32+1 -> 23
A34: =A33+1 -> 24 | K34: =K33+1 -> 24
A35: =A34+1 -> 25 | B35: Small Commercial | C35: =C13*C$28 -> -461604.08 | D35: =D13*D$28 -> -481321.22 | E35: =E13*E$28 -> -508329.51 | F35: =F13*F$28 -> -447871.96 | G35: =G13*G$28 -> -416211.13 | H35: =H13*H$28 -> -415848.83 | I35: =SUM('Stmt BH - Page 2'!C35:H35)+SUM('Stmt BH - Page 3'!C35:H35) -> -5216728 | J35: Line 3 x Line 18 | K35: =K34+1 -> 25
A36: =A35+1 -> 26 | K36: =K35+1 -> 26
A37: =A36+1 -> 27 | B37: Medium and Large Commercial/Industrial | C37: =C15*C$28 -> -2612631.3 | D37: =D15*D$28 -> -2709712.7 | E37: =E15*E$28 -> -2869918.9 | F37: =F15*F$28 -> -2625715.1 | G37: =G15*G$28 -> -2436488.9 | H37: =H15*H$28 -> -2375532.5 | I37: =SUM('Stmt BH - Page 2'!C37:H37)+SUM('Stmt BH - Page 3'!C37:H37) -> -29320274 | J37: Line 5 x Line 18 | K37: =K36+1 -> 27
A38: =A37+1 -> 28 | K38: =K37+1 -> 28
A39: =A38+1 -> 29 | B39: Agriculture (PA and TOU-PA) | C39: =C17*C$28 -> -67183.587 | D39: =D17*D$28 -> -72427.4 | E39: =E17*E$28 -> -72389.735 | F39: =F17*F$28 -> -64951.673 | G39: =G17*G$28 -> -55621.098 | H39: =H17*H$28 -> -50233.496 | I39: =SUM('Stmt BH - Page 2'!C39:H39)+SUM('Stmt BH - Page 3'!C39:H39) -> -640116.56 | J39: Line 7 x Line 18 | K39: =K38+1 -> 29
A40: =A39+1 -> 30 | K40: =K39+1 -> 30
A41: =A40+1 -> 31 | B41: Agriculture (PA-T-1) | C41: =C19*C$28 -> -47803.086 | D41: =D19*D$28 -> -47499.194 | E41: =E19*E$28 -> -47426.34 | F41: =F19*F$28 -> -45238.822 | G41: =G19*G$28 -> -41619.038 | H41: =H19*H$28 -> -37592.746 | I41: =SUM('Stmt BH - Page 2'!C41:H41)+SUM('Stmt BH - Page 3'!C41:H41) -> -500051.29 | J41: Line 9 x Line 18 | K41: =K40+1 -> 31
A42: =A41+1 -> 32 | K42: =K41+1 -> 32
